BEGIN:VCALENDAR
VERSION:2.0
PRODID:-//DIGITAL FACTORY//EVENTS MAKER V1.6.14//EN
CALSCALE:GREGORIAN
BEGIN:VEVENT
DTEND:20200219T020000Z
UID:69e9fa4009721
DTSTAMP:20260423T105352Z
LOCATION:6 Bears &amp; A Goat Brewing Company 1140 International Pkwy, Fredericksburg, VA, 22406, US
DESCRIPTION:Because we love to brew and drink beer. No brewing experience is necessary to attend.    If you like craft beer\, want to know more about classic and emerging beer styles\, brew and enjoy your own beer at home\, or are just curious about the hobby of Homebrewing\, then you should attend the meeting.    The meeting starts at 7:30 PM\, but there is an informal homebrew share between 7:00 and 7:30.    Style of the month: Dark Belgian (BJCP 26B or 26D)    Please bring at least 22 oz for the Style of the Month competition.
URL;VALUE=URI:https://fredhomebrew.org/events/event/monthly-meeting/
SUMMARY:February Meeting
DTSTART:20200219T000000Z
END:VEVENT
END:VCALENDAR
