BEGIN:VCALENDAR
VERSION:2.0
PRODID:-//DIGITAL FACTORY//EVENTS MAKER V1.6.14//EN
CALSCALE:GREGORIAN
BEGIN:VEVENT
DTEND:20191012T210000Z
UID:69e9fa6e6342a
DTSTAMP:20260423T105438Z
LOCATION:Fredericksburg Fairgrounds 2400 Airport Avenue, Fredericksburg, Virginia, 22401
DESCRIPTION:All you care to sample event! Over 80 samples and more in the VIP.  LIVE music\, food vendors and other vendors!!!    Purchase Tickets Here
URL;VALUE=URI:https://fredhomebrew.org/events/event/fall-fredericksburg-brew-fest/
SUMMARY:Fall Fredericksburg Brew Fest
DTSTART:20191012T150000Z
END:VEVENT
END:VCALENDAR
