BEGIN:VCALENDAR
VERSION:2.0
PRODID:-//DIGITAL FACTORY//EVENTS MAKER V1.6.14//EN
CALSCALE:GREGORIAN
BEGIN:VEVENT
DTEND:20190504T210000Z
UID:69e9fa2c0288a
DTSTAMP:20260423T105332Z
LOCATION:1781 Brewing Company 11109 Plank Rd, Spotsylvania, Virginia, 22553, US
DESCRIPTION:Come Celebrate National Homebrew Day!    Invite your friends and family\, gather around the brew kettle and join in the global celebration of the greatest hobby there is—homebrewing!    We will be doing two homebrew demonstrations\, an all grain and an extract batch. We will also have some homebrew beer available to sample.
URL;VALUE=URI:https://fredhomebrew.org/events/event/big-brew-day-2019/
SUMMARY:FBI&#039\;s Big Brew at 1781 Brewing Company
DTSTART:20190504T150000Z
END:VEVENT
END:VCALENDAR
