BEGIN:VCALENDAR
VERSION:2.0
PRODID:-//DIGITAL FACTORY//EVENTS MAKER V1.6.14//EN
CALSCALE:GREGORIAN
BEGIN:VEVENT
DTEND:20220420T010000Z
UID:69e9fa9a2f912
DTSTAMP:20260423T105522Z
DESCRIPTION:Naveed Mirza has graciously volunteered to host the April FBI meeting at his home on 19 April to show off the GrainFather brewing room in his brand new house!    Since this is a hosted event\, please submit a request to attend using the Contact Form or DM him via Facebook group for an invite and location details.
URL;VALUE=URI:https://fredhomebrew.org/events/event/apr-meeting-hosted-event/
SUMMARY:April Meeting - Hosted Event
DTSTART:20220419T230000Z
END:VEVENT
END:VCALENDAR
